BEGIN:VCALENDAR
VERSION:2.0
PRODID:-//Thames21 - ECPv6.15.17//NONSGML v1.0//EN
CALSCALE:GREGORIAN
METHOD:PUBLISH
X-WR-CALNAME:Thames21
X-ORIGINAL-URL:https://www.thames21.org.uk
X-WR-CALDESC:Events for Thames21
REFRESH-INTERVAL;VALUE=DURATION:PT1H
X-Robots-Tag:noindex
X-PUBLISHED-TTL:PT1H
BEGIN:VTIMEZONE
TZID:Europe/London
BEGIN:DAYLIGHT
TZOFFSETFROM:+0000
TZOFFSETTO:+0100
TZNAME:BST
DTSTART:20250330T010000
END:DAYLIGHT
BEGIN:STANDARD
TZOFFSETFROM:+0100
TZOFFSETTO:+0000
TZNAME:GMT
DTSTART:20251026T010000
END:STANDARD
BEGIN:DAYLIGHT
TZOFFSETFROM:+0000
TZOFFSETTO:+0100
TZNAME:BST
DTSTART:20260329T010000
END:DAYLIGHT
BEGIN:STANDARD
TZOFFSETFROM:+0100
TZOFFSETTO:+0000
TZNAME:GMT
DTSTART:20261025T010000
END:STANDARD
BEGIN:DAYLIGHT
TZOFFSETFROM:+0000
TZOFFSETTO:+0100
TZNAME:BST
DTSTART:20270328T010000
END:DAYLIGHT
BEGIN:STANDARD
TZOFFSETFROM:+0100
TZOFFSETTO:+0000
TZNAME:GMT
DTSTART:20271031T010000
END:STANDARD
END:VTIMEZONE
BEGIN:VEVENT
DTSTART;TZID=Europe/London:20260115T100000
DTEND;TZID=Europe/London:20260115T120000
DTSTAMP:20260425T112025
CREATED:20251202T165723Z
LAST-MODIFIED:20260114T171534Z
UID:10001203-1768471200-1768478400@www.thames21.org.uk
SUMMARY:Action for Silk Stream - Winter Guided Walk
DESCRIPTION:Unfortunately due to the scheduled heavy rain\, we are sorry to have to cancel this walk. We will re-schedule for another date soon. \n  \nJoin us for a guided walk along the Silk Stream Way. \nWe will start at Simmonds Mead Open Space\, Edgware\, NW7 4JH. This is small bit of green space with a stream running through the middle. Meet near the bridge in the centre of the green space. \nWhat3Words: ///over.price.rounds \nWe will walk along the trail\, through Lyndhurst Park\, the Meads Open Space\, Watling Park\, Silk Stream Park and end in Montrose Playing Fields. \nThere is a cafe in Montrose Playing Fields where we can stop for a cup of coffee and chat if you would like to stay. \nThe terrain is pavements and paths. \nWear trainers and dress appropriately for the weather! \nNearest train: Mill Hill Broadway \n 
URL:https://www.thames21.org.uk/event/action-for-silk-stream-winter-guided-walk/
LOCATION:Simmonds Mead Open Space\, London\, NW7 4PP\, United Kingdom
CATEGORIES:Action for Silk Stream
ATTACH;FMTTYPE=image/jpeg:https://www.thames21.org.uk/wp-content/uploads/2025/12/Winter-walk-cancelled.jpg
ORGANIZER;CN="Helen Cardy":MAILTO:helen.cardy@thames21.org.uk
GEO:51.6186315;-0.2450144
END:VEVENT
BEGIN:VEVENT
DTSTART;TZID=Europe/London:20260115T110000
DTEND;TZID=Europe/London:20260115T150000
DTSTAMP:20260425T112025
CREATED:20250909T095739Z
LAST-MODIFIED:20251021T110221Z
UID:10001122-1768474800-1768489200@www.thames21.org.uk
SUMMARY:Slowing the Flow: Oxleas Woods
DESCRIPTION:Join us to turn Oxleas Woods into a flood-fighting\, biodiversity-boosting powerhouse! \nThis winter\, join us for 17 fun and hands-on volunteer events as we transform Oxleas Woods into a thriving wet woodland. Together\, we’ll help slow the flow of floodwater\, protect downstream communities\, and create a vibrant habitat for wildlife. \nActivities include building leaky dams along the river Wogebourne in Oxleas and Bostall Woods. These fun\, practical activities help slow floodwaters and create vital habitats for local plants and animals\, all while connecting people with nature! \nWhere to meet: \nOxleas Woods Café – What 3 Words: reply.bleat.live \nNearest station – Falconwood \nWhat to Bring: \nDress for the weather and the task – long trousers and sleeves are advisable as there are nettles and brambles. \nPlease bring a packed lunch and plenty of fluids. \nWe will bring tea/coffee and biscuits. \nWe will provide all other equipment (including wellies) needed for the event and we look forward to welcoming you! \nEmail charlie.southard@thames21.org.uk if you have any questions. \nAnyone under the age of 18 must be accompanied by a parent or guardian. Please make sure you have weather appropriate clothing for the day. \nPlease get in touch if you have any questions about accessibility. We will do our best to make this event as accessible as possible. \nSign up to the event here: Slowing the Flow: Oxleas Woods – Thames21 Limited \nPlease note: A reasonable level of physical fitness is required for this event due to the nature of the tasks involved. While it’s nothing too strenuous\, activities will include lifting and pulling. Additionally\, the walk from the meeting point to the project site takes approximately 15 minutes. \nThis is an event designed for the community to engage the local public with the river and not for corporates. If you are interested in a bespoke corporate volunteer day. Please visit our website  https://www.thames21.org.uk/get-involved-2/corporateteamdays/
URL:https://www.thames21.org.uk/event/slowing-the-flow-oxleas-woods-9/
LOCATION:Oxleas Wood Cafe\, Crown Woods Lane\, London\, Greater London\, SE18 3JA\, United Kingdom
GEO:51.4676617;0.0680179
X-APPLE-STRUCTURED-LOCATION;VALUE=URI;X-ADDRESS=Oxleas Wood Cafe Crown Woods Lane London Greater London SE18 3JA United Kingdom;X-APPLE-RADIUS=500;X-TITLE=Crown Woods Lane:geo:0.0680179,51.4676617
END:VEVENT
END:VCALENDAR