BEGIN:VCALENDAR
VERSION:2.0
PRODID:-//Thames21 - ECPv6.15.17//NONSGML v1.0//EN
CALSCALE:GREGORIAN
METHOD:PUBLISH
X-ORIGINAL-URL:https://www.thames21.org.uk
X-WR-CALDESC:Events for Thames21
REFRESH-INTERVAL;VALUE=DURATION:PT1H
X-Robots-Tag:noindex
X-PUBLISHED-TTL:PT1H
BEGIN:VTIMEZONE
TZID:Europe/London
BEGIN:DAYLIGHT
TZOFFSETFROM:+0000
TZOFFSETTO:+0100
TZNAME:BST
DTSTART:20250330T010000
END:DAYLIGHT
BEGIN:STANDARD
TZOFFSETFROM:+0100
TZOFFSETTO:+0000
TZNAME:GMT
DTSTART:20251026T010000
END:STANDARD
BEGIN:DAYLIGHT
TZOFFSETFROM:+0000
TZOFFSETTO:+0100
TZNAME:BST
DTSTART:20260329T010000
END:DAYLIGHT
BEGIN:STANDARD
TZOFFSETFROM:+0100
TZOFFSETTO:+0000
TZNAME:GMT
DTSTART:20261025T010000
END:STANDARD
BEGIN:DAYLIGHT
TZOFFSETFROM:+0000
TZOFFSETTO:+0100
TZNAME:BST
DTSTART:20270328T010000
END:DAYLIGHT
BEGIN:STANDARD
TZOFFSETFROM:+0100
TZOFFSETTO:+0000
TZNAME:GMT
DTSTART:20271031T010000
END:STANDARD
END:VTIMEZONE
BEGIN:VEVENT
DTSTART;TZID=Europe/London:20260304T093000
DTEND;TZID=Europe/London:20260304T123000
DTSTAMP:20260421T035411
CREATED:20260219T170521Z
LAST-MODIFIED:20260219T171111Z
UID:10001222-1772616600-1772627400@www.thames21.org.uk
SUMMARY:Foots Cray Meadows - Reed Bed Management
DESCRIPTION:BOOK HERE! \nJoin us at the beautiful Foots Cray Meadows by the historic Five Arch Bridge to help manage the reed beds on the River Cray. \nJust downstream from Five Arch Bridge is a reed bed that several years ago was non-existent. It reached the point where it was completely as wide as the river and became an obstruction. It’s been slowly reduced\, but it needs a final concerted effort to bring it properly under control. The reed mat takes a bit of effort to dig out\, hence the need for a reasonable level of fitness. \nThe work will be carried out standing in the river with waders on and will be rather physical. Waders and all tools will be provided. \nRefreshments will be served after the event. \nThis is event is being run with the Cray River Action Group (CRAG). \nBOOK HERE!
URL:https://www.thames21.org.uk/event/foots-cray-meadows-reed-bed-management/
LOCATION:Five Arches Foots Cray Meadows\, Leafield Lane\, Sidcup\, DA14 5EB\, United Kingdom
CATEGORIES:River Cray,River Restoration,Vegetation Management,Volunteer,Wellbeing,Wetland,Your Tidal Thames
ATTACH;FMTTYPE=image/jpeg:https://www.thames21.org.uk/wp-content/uploads/2026/02/IMG_0144.jpeg
END:VEVENT
BEGIN:VEVENT
DTSTART;TZID=Europe/London:20260313T100000
DTEND;TZID=Europe/London:20260313T140000
DTSTAMP:20260421T035411
CREATED:20260316T181327Z
LAST-MODIFIED:20260316T181444Z
UID:10001249-1773396000-1773410400@www.thames21.org.uk
SUMMARY:Thames Road Wetland: Help Manage An Important Wetland
DESCRIPTION:Book Here! \nVolunteering some time for wetland habitat maintenance is a valuable way to help the environment and safeguard fragile ecosystems. Wetlands are crucial for biodiversity and play important roles in purifying water\, controlling floods\, and storing carbon. \nIt’s not only beneficial for the environment but also a rewarding way to connect with nature and benefit your local community. Your efforts can help protect and preserve these vital ecosystems for future generations. \nWe have Thames21 staff-supported events on the second Friday of every month\, if you would like to volunteer\, please come down\, we can kit you out with waders so that you can assist with more Winter Reed cutting in shallow water areas\, designed to try and weaken some of the stands of this vigorous plant in order to maintain a greater variety of vegetation types. \nThere are other tasks too\, such as pruning work to open pathways\, pollarding sallows (trimming small trees)\, and some litter picking duties. We will provide all the equipment needed. \nYou will need work clothes\, adequate sun/rain shower protection and any food and drink required. As it is wild land there are no toilet facilities on site\, but there are toilet facilities and a canteen nearby at the council depot.  Tea\, coffee and biscuits are provided on site. \nThe event starts at 10.30am but please arrive at 10am to get kitted up and briefed at the meeting point\, which is by the steps near Thames Rd on By-way 105 (what3words location: dome.silly.above)\,  near the bridge that crosses the river Cray on Thames Road. To sign up to this event please click this link: \nThames Road Wetland: Help Manage An Important Wetland  \nPlease contact Sam at Samantha.Dhedhi@thames21.org.uk if you have any further questions. Please ensure you book your place so we can provide kit for you. Finish time is around 2pm\, but feel free to go whenever you need to. \nChris Rose. Volunteer Site Manager. \nThis is an event designed for the community\, to engage the local public with the river and not for corporates. If you are interested in a bespoke corporate volunteer day\, please visit our website https://www.thames21.org.uk/get-involved-2/corporatevolunteering/
URL:https://www.thames21.org.uk/event/thames-road-wetland-help-manage-an-important-wetland-4-2/
LOCATION:Thames Road Wetland\, Thames Road by River Cray Bridge\, Barnes Cray\, Crayford\, DA1 4RF\, United Kingdom
CATEGORIES:Experience,Litter Pick,Natural Flood Management,River Cray,River Restoration,South East London,Vegetation Management,Volunteer,Water Wildlife,Waterways and Wellbeing,Wetland
ATTACH;FMTTYPE=image/jpeg:https://www.thames21.org.uk/wp-content/uploads/2023/10/Habitat-managment-TRW.jpg
ORGANIZER;CN="Samantha Dhedhi":MAILTO:samantha.dhedhi@thames21.org.uk
GEO:51.4560455;0.1976639
X-APPLE-STRUCTURED-LOCATION;VALUE=URI;X-ADDRESS=Thames Road Wetland Thames Road by River Cray Bridge Barnes Cray Crayford DA1 4RF United Kingdom;X-APPLE-RADIUS=500;X-TITLE=Thames Road by River Cray Bridge:geo:0.1976639,51.4560455
END:VEVENT
BEGIN:VEVENT
DTSTART;TZID=Europe/London:20260314T100000
DTEND;TZID=Europe/London:20260314T130000
DTSTAMP:20260421T035411
CREATED:20260220T124919Z
LAST-MODIFIED:20260306T125649Z
UID:10001224-1773482400-1773493200@www.thames21.org.uk
SUMMARY:Action for Silk Stream - Great British Spring Clean on The Meads
DESCRIPTION:Join us litter-picking on The Meads Open Space\, as part of Keep Britain Tidy’s  nationwide Great British Spring Clean campaign\n \nWe will be clearing out litter and fly-tipping from 10AM to 1PM on the Meads Open Space\, along the course of the Burnt Oak Brook \nOPEN EVENT-BOOKING NOT ESSENTIAL: Stay for the whole session\, or drop-by for half-an-hour. Every single bag collected makes a difference: for wildlife\, for water and for our community\nIf you wish to book\, please follow this link: book.plinth.org.uk/e/7WwHsPcPYq5Aq1vHsn37 \nWhere to meet: \nThe Meads Open Space\, Gold Hill\, HA8 9HA Edgware \nNearest tube: Burnt Oak \nNearest Overground: Mill Hill Broadway \nWhat to Bring: \nDress for the weather and the task – sturdy boots or trainers\, waterproof jacket\, long trousers and sleeves are advisable as there are nettles and brambles. \nWe will provide litter-picking equipment (including gloves\, litter-picks and bags\, hi-vis vests). \nEmail claudia.kaplan@thames21.org.uk if you have any questions. \nAnyone under the age of 18 must be accompanied by a parent or guardian. Please make sure you have weather appropriate clothing for the day. \nPlease get in touch if you have any questions about accessibility. We will do our best to make this event as accessible as possible. \n  \nThis is an event designed for the community to engage the local public with the river and not for corporates. If you are interested in a bespoke corporate volunteer day. Please visit our website  https://www.thames21.org.uk/get-involved-2/corporateteamdays/ \n 
URL:https://www.thames21.org.uk/event/action-for-silk-stream-great-british-spring-clean-on-the-meads-open-space/
LOCATION:The Meads Open Space\, Gold Hill\, The Meads Open Space\, Gold Hill\, London\, HA8 9HA\, United Kingdom
CATEGORIES:Action for Silk Stream,Great British Spring Clean,Litter Pick,Silk Stream,Volunteer
ATTACH;FMTTYPE=image/jpeg:https://www.thames21.org.uk/wp-content/uploads/2026/02/20251127_145934-scaled.jpg
ORGANIZER;CN="claudia kaplan":MAILTO:claudia.kaplan@thames21.org.uk
END:VEVENT
BEGIN:VEVENT
DTSTART;TZID=Europe/London:20260327T100000
DTEND;TZID=Europe/London:20260327T150000
DTSTAMP:20260421T035411
CREATED:20260319T165127Z
LAST-MODIFIED:20260319T165127Z
UID:10001252-1774605600-1774623600@www.thames21.org.uk
SUMMARY:Friary Park Spring Wetland Planting Event
DESCRIPTION:Volunteer with Thames21 to bring the newly excavated wetlands in Friary Park to life! \nThis 4-cell wetland has been designed to store floodwaters and naturally treat water flowing in from Blackett’s Brook. The wetland vegetation plays a crucial role in removing excess nutrients and breaking down pollutants\, while also creating a vibrant habitat for wildlife and enhancing the park’s natural beauty. \nWe need your help to plant the final 1\,000 plug plants in the wetland cells with easy-to-use tools. These plants will help purify the water\, stabilise the banks and create a biodiverse landscape. \nNo experience is needed – all training and guidance will be provided. It’s a fantastic opportunity to connect with nature and meet others in your community. \nPlease note\, this activity involves getting in the wetland cells and walking up and down the banks. Wellies and waders will be provided. \nPlease wear weather appropriate clothing you don’t mind getting muddy and bring food and water for yourself. Tea\, coffee and biscuits will be provided. \nWe will meet by the wetland cells on the west side of the park at 9:30am. If you can’t commit to the whole day\, please do still come along to help out! \nWe look forward to seeing you there. \nBook your spot here.\nAny questions\, please email lucy.hutchison@thames21.org.uk \nUnder-18s should be accompanied by an adult.
URL:https://www.thames21.org.uk/event/friary-park-spring-wetland-planting-event/
LOCATION:Friary Park\, N21 9AN
CATEGORIES:Volunteer
ATTACH;FMTTYPE=image/png:https://www.thames21.org.uk/wp-content/uploads/2026/03/Untitled-design-2026-03-19T164847.435.png
GEO:51.6185542;-0.1622647
END:VEVENT
END:VCALENDAR