BEGIN:VCALENDAR
VERSION:2.0
PRODID:-//Thames21 - ECPv6.15.17//NONSGML v1.0//EN
CALSCALE:GREGORIAN
METHOD:PUBLISH
X-WR-CALNAME:Thames21
X-ORIGINAL-URL:https://www.thames21.org.uk
X-WR-CALDESC:Events for Thames21
REFRESH-INTERVAL;VALUE=DURATION:PT1H
X-Robots-Tag:noindex
X-PUBLISHED-TTL:PT1H
BEGIN:VTIMEZONE
TZID:Europe/London
BEGIN:DAYLIGHT
TZOFFSETFROM:+0000
TZOFFSETTO:+0100
TZNAME:BST
DTSTART:20240331T010000
END:DAYLIGHT
BEGIN:STANDARD
TZOFFSETFROM:+0100
TZOFFSETTO:+0000
TZNAME:GMT
DTSTART:20241027T010000
END:STANDARD
BEGIN:DAYLIGHT
TZOFFSETFROM:+0000
TZOFFSETTO:+0100
TZNAME:BST
DTSTART:20250330T010000
END:DAYLIGHT
BEGIN:STANDARD
TZOFFSETFROM:+0100
TZOFFSETTO:+0000
TZNAME:GMT
DTSTART:20251026T010000
END:STANDARD
BEGIN:DAYLIGHT
TZOFFSETFROM:+0000
TZOFFSETTO:+0100
TZNAME:BST
DTSTART:20260329T010000
END:DAYLIGHT
BEGIN:STANDARD
TZOFFSETFROM:+0100
TZOFFSETTO:+0000
TZNAME:GMT
DTSTART:20261025T010000
END:STANDARD
BEGIN:DAYLIGHT
TZOFFSETFROM:+0000
TZOFFSETTO:+0100
TZNAME:BST
DTSTART:20270328T010000
END:DAYLIGHT
BEGIN:STANDARD
TZOFFSETFROM:+0100
TZOFFSETTO:+0000
TZNAME:GMT
DTSTART:20271031T010000
END:STANDARD
END:VTIMEZONE
BEGIN:VEVENT
DTSTART;TZID=Europe/London:20260304T093000
DTEND;TZID=Europe/London:20260304T123000
DTSTAMP:20260420T155501
CREATED:20260219T170521Z
LAST-MODIFIED:20260219T171111Z
UID:10001222-1772616600-1772627400@www.thames21.org.uk
SUMMARY:Foots Cray Meadows - Reed Bed Management
DESCRIPTION:BOOK HERE! \nJoin us at the beautiful Foots Cray Meadows by the historic Five Arch Bridge to help manage the reed beds on the River Cray. \nJust downstream from Five Arch Bridge is a reed bed that several years ago was non-existent. It reached the point where it was completely as wide as the river and became an obstruction. It’s been slowly reduced\, but it needs a final concerted effort to bring it properly under control. The reed mat takes a bit of effort to dig out\, hence the need for a reasonable level of fitness. \nThe work will be carried out standing in the river with waders on and will be rather physical. Waders and all tools will be provided. \nRefreshments will be served after the event. \nThis is event is being run with the Cray River Action Group (CRAG). \nBOOK HERE!
URL:https://www.thames21.org.uk/event/foots-cray-meadows-reed-bed-management/
LOCATION:Five Arches Foots Cray Meadows\, Leafield Lane\, Sidcup\, DA14 5EB\, United Kingdom
CATEGORIES:River Cray,River Restoration,Vegetation Management,Volunteer,Wellbeing,Wetland,Your Tidal Thames
ATTACH;FMTTYPE=image/jpeg:https://www.thames21.org.uk/wp-content/uploads/2026/02/IMG_0144.jpeg
END:VEVENT
BEGIN:VEVENT
DTSTART;TZID=Europe/London:20260226T130000
DTEND;TZID=Europe/London:20260226T150000
DTSTAMP:20260420T155501
CREATED:20260113T172015Z
LAST-MODIFIED:20260226T101356Z
UID:10001209-1772110800-1772118000@www.thames21.org.uk
SUMMARY:River Litter Detectives - Queenhithe (CANCELLED)
DESCRIPTION:Book your place HERE! \nCome along and join Thames21 as a river citizen scientist on the River Thames. We will be collecting the litter we find and categorising it into sewage derived litter\, plastic items\, and other litter. This will help us to determine the quantity of litter turning up along the river side and to investigate which litter category is the biggest problem. \nWe look forward to welcoming you to our event which will cover everything you need to know to carry out a litter survey or clean up with Thames21 Citizen Science Volunteer for Thames River Watch. \nBoth new and existing Thames21 volunteers are encouraged to attend and investigate plastic pollution on the Tidal Thames. \nPlease note that access to this site is a little challenging\, requiring climbing a step-ladder\, and over a wall. If you would like any further information about this\, please contact samantha.dhedhi@thames21.org.uk. \nThis is an event designed for the community to engage the local public with the river and not for corporates. If you are interested in a bespoke corporate volunteer day. Please visit our website https://www.thames21.org.uk/get-involved-2/corporateteamdays/ \nPlease make sure you have suitable footwear (wellies or boots) and weather appropriate clothing for the day. \nIf you have any questions please contact Sam at samantha.dhedhi@thames21.org.uk \nBook your place HERE!
URL:https://www.thames21.org.uk/event/river-litter-detectives-queenhithe-2/
LOCATION:Queenhithe\, City of London\, by the Queenhithe Mosaic\, City of London\, London\, EC4V 3EH\, United Kingdom
CATEGORIES:Citizen Science,Experience,River clean-up,Thames,Thames River Watch,tidal thames,Volunteer,Your Tidal Thames
ATTACH;FMTTYPE=image/jpeg:https://www.thames21.org.uk/wp-content/uploads/2024/02/20230329_143556-scaled.jpg
GEO:51.5105078;-0.0950454
X-APPLE-STRUCTURED-LOCATION;VALUE=URI;X-ADDRESS=Queenhithe City of London by the Queenhithe Mosaic City of London London EC4V 3EH United Kingdom;X-APPLE-RADIUS=500;X-TITLE=by the Queenhithe Mosaic:geo:-0.0950454,51.5105078
END:VEVENT
BEGIN:VEVENT
DTSTART;TZID=Europe/London:20260210T120000
DTEND;TZID=Europe/London:20260210T140000
DTSTAMP:20260420T155502
CREATED:20260113T171023Z
LAST-MODIFIED:20260113T171023Z
UID:10001208-1770724800-1770732000@www.thames21.org.uk
SUMMARY:River Litter Detectives - Limekiln Dock
DESCRIPTION:Book your FREE place here! \nCome along and join Thames21 as a river citizen scientist on the River Thames. We will collect the litter we find and categorise it into sewage-derived litter\, plastic items\, and other types of litter. This will help us determine the quantity of litter turning up along the riverside and investigate which litter category poses the biggest problem. \nWe look forward to welcoming you to our event\, which will cover everything you need to know to carry out a litter survey or clean up with Thames21 Citizen Science Volunteer for Thames River Watch. \nBoth new and existing Thames21 volunteers are encouraged to attend and investigate plastic pollution on the Tidal Thames. \nThis event is suitable for anyone (over the age of 10 accompanied by an adult) with an interest in plastic pollution\, or those who want to help monitor and improve the River Thames. \nThis is an event designed for the community to engage the local public with the river and not for corporates. If you are interested in a bespoke corporate volunteer day. Please visit our website https://www.thames21.org.uk/get-involved-2/corporateteamdays/ \nPlease make sure you have suitable footwear (wellies or boots) and weather-appropriate clothing for the day. \nPLEASE NOTE: Access to this site involves climbing a short ladder or climbing over a flood wall. Volunteers with limited mobility may find this challenging. Please contact Felicity if you would like to learn more about this. \nIf you have any questions\, please contact Sam at samantha.dhedhi@thames21.org.uk. \nBook your place here! \n 
URL:https://www.thames21.org.uk/event/river-litter-detectives-limekiln-dock/
LOCATION:Limekiln Dock\, Junction of Three Colt St/Milligan St\, London\, E14 8AP\, United Kingdom
CATEGORIES:Citizen Science,River clean-up,Thames,Thames River Watch,tidal thames,Your Tidal Thames
ATTACH;FMTTYPE=image/jpeg:https://www.thames21.org.uk/wp-content/uploads/2025/10/20221203_LimeKiln-Dock_Survey-East-Hub-Group_cT21-scaled.jpg
ORGANIZER;CN="Samantha Dhedhi":MAILTO:samantha.dhedhi@thames21.org.uk
END:VEVENT
BEGIN:VEVENT
DTSTART;TZID=Europe/London:20260206T123000
DTEND;TZID=Europe/London:20260206T143000
DTSTAMP:20260420T155502
CREATED:20260114T162923Z
LAST-MODIFIED:20260114T163615Z
UID:10001210-1770381000-1770388200@www.thames21.org.uk
SUMMARY:River Litter Detectives - Sands End
DESCRIPTION:Come along and join Thames21 as a river citizen scientist on the River Thames. We will be collecting the litter we find and categorising it into sewage derived litter\, plastic items\, and other litter. This will help us to determine the quantity of litter turning up along the riverside and to investigate which litter category is the biggest problem. \nWe look forward to welcoming you to our event which will cover everything you need to know to carry out a litter survey or clean up with Thames21 Citizen Science Volunteer for Thames River Watch. \nBoth new and existing Thames21 volunteers are encouraged to attend and investigate plastic pollution on the Tidal Thames. This event is suitable to anyone (over the age of 10 with an adult) who has an interest in plastic pollution or if you want to help monitor and improve the Thames river. \nThis is an event designed for the community to engage the local public with the river and not for corporates. If you are interested in a bespoke corporate volunteer day. Please visit our website https://www.thames21.org.uk/get-involved-2/corporatevolunteer \nPlease make sure you have suitable footwear (wellies or boots) that covers your ankles and weather-appropriate clothing for the day as this site tends to be very muddy. \nIf you have any questions please contact Steph at stephanie.fernandes@thames21.org.uk \nThis will be a fun\, relaxed event and everyone is welcome to come learn\, explore and enjoy! \nBook your place here 
URL:https://www.thames21.org.uk/event/sands-end-river-clean-up-litter-detectives/
LOCATION:Broomhouse Dock\, SW6 3EH\, Junction of Carnwath Road & Broomhouse Lane\, Fulham\, SW6 3DS\, United Kingdom
CATEGORIES:Thames River Watch,tidal thames,Your Tidal Thames
ATTACH;FMTTYPE=image/jpeg:https://www.thames21.org.uk/wp-content/uploads/2024/04/IMG_0039-scaled.jpg
GEO:51.4655288;-0.197471
X-APPLE-STRUCTURED-LOCATION;VALUE=URI;X-ADDRESS=Broomhouse Dock SW6 3EH Junction of Carnwath Road & Broomhouse Lane Fulham SW6 3DS United Kingdom;X-APPLE-RADIUS=500;X-TITLE=SW6 3EH\, Junction of Carnwath Road & Broomhouse Lane:geo:-0.197471,51.4655288
END:VEVENT
BEGIN:VEVENT
DTSTART;TZID=Europe/London:20251210T120000
DTEND;TZID=Europe/London:20251210T140000
DTSTAMP:20260420T155502
CREATED:20251023T164423Z
LAST-MODIFIED:20251023T164423Z
UID:10001149-1765368000-1765375200@www.thames21.org.uk
SUMMARY:River Litter Detectives - Bishop's Park
DESCRIPTION:BOOK YOUR PLACE NOW\nCome along and join Thames21 as a river citizen scientist on the River Thames. We will collect the litter we find and categorise it into sewage-derived litter\, plastic items\, and other types of litter. This will help us determine the quantity of litter turning up along the riverside and investigate which litter category poses the biggest problem. \nWe look forward to welcoming you to our event\, which will cover everything you need to know to carry out a litter survey or clean up with Thames21 Citizen Science Volunteer for Thames River Watch. \nBoth new and existing Thames21 volunteers are encouraged to attend and investigate plastic pollution on the Tidal Thames. \nThis event is suitable for anyone (over the age of 10 accompanied by an adult) with an interest in plastic pollution\, or those who want to help monitor and improve the River Thames. \nThis is an event designed for the community to engage the local public with the river and not for corporates. If you are interested in a bespoke corporate volunteer day. Please visit our website https://www.thames21.org.uk/get-involved-2/corporatevolunteer \nPlease make sure you have suitable footwear (wellies or boots) that covers your ankles and weather-appropriate clothing for the day as this site tends to be very muddy. \nIf you have any questions\, please get in touch with Stephanie at stephanie.fernandes@thames21.org.uk. \nBOOK YOUR PLACE NOW
URL:https://www.thames21.org.uk/event/river-litter-detectives-bishops-park-3/
LOCATION:Bishops Park\, Bishop's Ave\, SW6 6EA
CATEGORIES:Thames River Watch,tidal thames,Volunteer,Your Tidal Thames
ATTACH;FMTTYPE=image/jpeg:https://www.thames21.org.uk/wp-content/uploads/2022/10/litterpicker.jpg
GEO:51.4719586;-0.2162458
X-APPLE-STRUCTURED-LOCATION;VALUE=URI;X-ADDRESS=Bishops Park Bishop's Ave SW6 6EA;X-APPLE-RADIUS=500;X-TITLE=Bishop's Ave:geo:-0.2162458,51.4719586
END:VEVENT
BEGIN:VEVENT
DTSTART;TZID=Europe/London:20251209T113000
DTEND;TZID=Europe/London:20251209T133000
DTSTAMP:20260420T155502
CREATED:20251023T163759Z
LAST-MODIFIED:20251023T163759Z
UID:10001148-1765279800-1765287000@www.thames21.org.uk
SUMMARY:Sands End River Clean Up & Litter Detectives
DESCRIPTION:Come along and join Thames21 as a river citizen scientist on the River Thames. We will be collecting the litter we find and categorising it into sewage derived litter\, plastic items\, and other litter. This will help us to determine the quantity of litter turning up along the river side and to investigate which litter category is the biggest problem. \nWe look forward to welcoming you to our event which will cover everything you need to know to carry out a litter survey or clean up with Thames21 Citizen Science Volunteer for Thames River Watch. \nBoth new and existing Thames21 volunteers are encouraged to attend and investigate plastic pollution on the Tidal Thames. This event is suitable to anyone (over the age of 10 with an adult) who has an interest in plastic pollution or if you want to help monitor and improve the Thames river. \nThis is an event designed for the community to engage the local public with the river and not for corporates. If you are interested in a bespoke corporate volunteer day. Please visit our website https://www.thames21.org.uk/get-involved-2/corporatevolunteer \nPlease make sure you have suitable footwear (wellies or boots) that covers your ankles and weather-appropriate clothing for the day as this site tends to be very muddy. \nIf you have any questions please contact Steph at stephanie.fernandes@thames21.org.uk \nThis will be a fun\, relaxed event and everyone is welcome to come learn\, explore and enjoy! \nBook your place here 
URL:https://www.thames21.org.uk/event/sands-end-river-clean-up-litter-detectives-2/
LOCATION:Broomhouse Dock\, SW6 3EH\, Junction of Carnwath Road & Broomhouse Lane\, Fulham\, SW6 3DS\, United Kingdom
CATEGORIES:Thames River Watch,tidal thames,Your Tidal Thames
ATTACH;FMTTYPE=image/jpeg:https://www.thames21.org.uk/wp-content/uploads/2024/04/IMG_0039-scaled.jpg
GEO:51.4655288;-0.197471
X-APPLE-STRUCTURED-LOCATION;VALUE=URI;X-ADDRESS=Broomhouse Dock SW6 3EH Junction of Carnwath Road & Broomhouse Lane Fulham SW6 3DS United Kingdom;X-APPLE-RADIUS=500;X-TITLE=SW6 3EH\, Junction of Carnwath Road & Broomhouse Lane:geo:-0.197471,51.4655288
END:VEVENT
END:VCALENDAR