BEGIN:VCALENDAR
VERSION:2.0
PRODID:-//Thames21 - ECPv6.15.17//NONSGML v1.0//EN
CALSCALE:GREGORIAN
METHOD:PUBLISH
X-WR-CALNAME:Thames21
X-ORIGINAL-URL:https://www.thames21.org.uk
X-WR-CALDESC:Events for Thames21
REFRESH-INTERVAL;VALUE=DURATION:PT1H
X-Robots-Tag:noindex
X-PUBLISHED-TTL:PT1H
BEGIN:VTIMEZONE
TZID:Europe/London
BEGIN:DAYLIGHT
TZOFFSETFROM:+0000
TZOFFSETTO:+0100
TZNAME:BST
DTSTART:20250330T010000
END:DAYLIGHT
BEGIN:STANDARD
TZOFFSETFROM:+0100
TZOFFSETTO:+0000
TZNAME:GMT
DTSTART:20251026T010000
END:STANDARD
BEGIN:DAYLIGHT
TZOFFSETFROM:+0000
TZOFFSETTO:+0100
TZNAME:BST
DTSTART:20260329T010000
END:DAYLIGHT
BEGIN:STANDARD
TZOFFSETFROM:+0100
TZOFFSETTO:+0000
TZNAME:GMT
DTSTART:20261025T010000
END:STANDARD
BEGIN:DAYLIGHT
TZOFFSETFROM:+0000
TZOFFSETTO:+0100
TZNAME:BST
DTSTART:20270328T010000
END:DAYLIGHT
BEGIN:STANDARD
TZOFFSETFROM:+0100
TZOFFSETTO:+0000
TZNAME:GMT
DTSTART:20271031T010000
END:STANDARD
END:VTIMEZONE
BEGIN:VEVENT
DTSTART;TZID=Europe/London:20260531T093000
DTEND;TZID=Europe/London:20260531T170000
DTSTAMP:20260420T140935
CREATED:20260416T141238Z
LAST-MODIFIED:20260416T141238Z
UID:10001274-1780219800-1780246800@www.thames21.org.uk
SUMMARY:London Rivers Week 2026: Introduction to MoRPh CSci training event
DESCRIPTION:As part of London Rivers Week\, Cartographer are hosting a free\, open\, in-person ‘Introduction to MoRPh’ training. This one-day training course will teach you how to conduct a MoRPh survey so that you can assess and monitor the physical health of your river. \n\n\nWhy MoRPh? The MoRPh survey is conducted at short river lengths and records physical habitat\, vegetation and human impacts. Surveys are entered into the MoRPh Citizen Science database which produces a series of condition indicators about the health of the river. This introductory video provides further information about the MoRPh survey. \nWhat does the training involve? This course will teach you how to conduct a MoRPh survey and how to enter and view surveys in the database. This one-day training includes a morning of classroom teaching\, followed by riverside field training in the afternoon. We will be visiting a newly-restored section of the River Crane to see how MoRPh can be used to monitor the impacts of restoration. The course will qualify you to become a MoRPh CSci surveyor. \nNumbers are limited and booking is essential! \nRegister here.\nPlease send any questions to: training@cartographer.io
URL:https://www.thames21.org.uk/event/london-rivers-week-2026-introduction-to-morph-csci-training-event/
LOCATION:4th Ruislip Scout Hut\, West End Road\, HA4 6LR
CATEGORIES:London Rivers Week 2026
ATTACH;FMTTYPE=image/png:https://www.thames21.org.uk/wp-content/uploads/2026/04/Images-for-website-LRW-2026-17.png
GEO:51.5624612;-0.4134195
X-APPLE-STRUCTURED-LOCATION;VALUE=URI;X-ADDRESS=4th Ruislip Scout Hut West End Road HA4 6LR;X-APPLE-RADIUS=500;X-TITLE=West End Road:geo:-0.4134195,51.5624612
END:VEVENT
END:VCALENDAR