BEGIN:VCALENDAR
VERSION:2.0
PRODID:-//Thames21 - ECPv6.15.17//NONSGML v1.0//EN
CALSCALE:GREGORIAN
METHOD:PUBLISH
X-WR-CALNAME:Thames21
X-ORIGINAL-URL:https://www.thames21.org.uk
X-WR-CALDESC:Events for Thames21
REFRESH-INTERVAL;VALUE=DURATION:PT1H
X-Robots-Tag:noindex
X-PUBLISHED-TTL:PT1H
BEGIN:VTIMEZONE
TZID:Europe/London
BEGIN:DAYLIGHT
TZOFFSETFROM:+0000
TZOFFSETTO:+0100
TZNAME:BST
DTSTART:20250330T010000
END:DAYLIGHT
BEGIN:STANDARD
TZOFFSETFROM:+0100
TZOFFSETTO:+0000
TZNAME:GMT
DTSTART:20251026T010000
END:STANDARD
BEGIN:DAYLIGHT
TZOFFSETFROM:+0000
TZOFFSETTO:+0100
TZNAME:BST
DTSTART:20260329T010000
END:DAYLIGHT
BEGIN:STANDARD
TZOFFSETFROM:+0100
TZOFFSETTO:+0000
TZNAME:GMT
DTSTART:20261025T010000
END:STANDARD
BEGIN:DAYLIGHT
TZOFFSETFROM:+0000
TZOFFSETTO:+0100
TZNAME:BST
DTSTART:20270328T010000
END:DAYLIGHT
BEGIN:STANDARD
TZOFFSETFROM:+0100
TZOFFSETTO:+0000
TZNAME:GMT
DTSTART:20271031T010000
END:STANDARD
END:VTIMEZONE
BEGIN:VEVENT
DTSTART;TZID=Europe/London:20260523T113000
DTEND;TZID=Europe/London:20260523T140000
DTSTAMP:20260420T200346
CREATED:20260420T133959Z
LAST-MODIFIED:20260420T135235Z
UID:10001275-1779535800-1779544800@www.thames21.org.uk
SUMMARY:London Rivers Week 2026: Tidal Tales - Walking Through Flux & Flow
DESCRIPTION:Kicking off London Rivers Week\, Thames21 will be going on a river walking adventure with artist/historian Remiiya Badru from King Edward Memorial Park\, in Wapping\, and concluding at Blackfriars\, prior to the unveiling of a new artwork in a new exciting space developed for the public realm. \nOn our journey we will be exploring key landmarks along this stretch of river from London’s oldest pub and Captain Kidd\, key bridges and crossings plus some of the lesser known stories of our social geographies\, communities and industrial history. This multisensorial walk will also embody an opportunity to connect to the river as nature for our wellbeing as a sanctuary of sustenance. We will be weaving our way through a number of timelines through witnessing infrastructural and environmental changes. How do we see the river for the future? \nBOOK HERE \nDate and time: Saturday 23rd May. 11.30am-14:00pm \n📏 Distance: ~4.8 km (3 miles) \n📍 Route: We will meet at the new Tideway site at King Edward Memorial Park finishing at the new Tideway riverside public realm at Blackfriars. Click here to view the route we will follow. \n🕒 Duration: ~2 plus hours (give or take depending on pace & breaks) \n👟 Terrain: Flat riverside paths — nice for walking and talking \nArtist Bio: \nRemiiya Badru is a multi-interdisciplinary artist\, whose practice centres on sharing her river-walking adventures through research-informed multimedia artwork and social engagement. She seeks to undertake a multi-layered exploration of the River Thames’ forever changing palette of colour\, sight\, scent\, sound and story\, but also its silences\, omissions and hidden histories of people and place. \nIn her walking practice\, Badru seeks to commune with and responding to the river as a timeless resource from a multi-sensorial perspective\, entering an immersive and embodied meditation in motion. She externalises these experiences through mapping\, wayfinding and placemaking. The stories that Badru seeks to uncover relate to the river as a witness to infrastructural change and flux\, particularly in relation to memory\, colonial and post-colonial histories\, pre- and post-industrial change\, heritage\, natural and man-made environments. \nHer work continues to be navigated by Timehri\, her model ship who is in fact simultaneously her ‘navigator’ and ‘anchoress’ who continues to guide Badru in her travels along the river and associated bodies of water. Together they navigate these embodiments of water as ‘liquid history flowing as a continuum which synchronises the past\, present and future that connects all of us as a global conduit that carries our stories.’ \nAll U18s must be accompanied by an adult.
URL:https://www.thames21.org.uk/event/london-rivers-week-2026-tidal-tales-walking-through-flux-flow/
LOCATION:King Edward Memorial Park\, Tideway Site\, The Hwy\, London\, E1W 3HT\, King Edward Memorial Park\, London\, E1W 3HT
CATEGORIES:London Rivers Week 2026
ATTACH;FMTTYPE=image/jpeg:https://www.thames21.org.uk/wp-content/uploads/2026/04/RemiiyaBadru©PaulWyatt.jpg
GEO:51.5093161;-0.0493694
X-APPLE-STRUCTURED-LOCATION;VALUE=URI;X-ADDRESS=King Edward Memorial Park Tideway Site The Hwy London E1W 3HT King Edward Memorial Park London E1W 3HT;X-APPLE-RADIUS=500;X-TITLE=King Edward Memorial Park:geo:-0.0493694,51.5093161
END:VEVENT
END:VCALENDAR