BEGIN:VCALENDAR
VERSION:2.0
PRODID:-//Thames21 - ECPv6.15.17//NONSGML v1.0//EN
CALSCALE:GREGORIAN
METHOD:PUBLISH
X-ORIGINAL-URL:https://www.thames21.org.uk
X-WR-CALDESC:Events for Thames21
REFRESH-INTERVAL;VALUE=DURATION:PT1H
X-Robots-Tag:noindex
X-PUBLISHED-TTL:PT1H
BEGIN:VTIMEZONE
TZID:Europe/London
BEGIN:DAYLIGHT
TZOFFSETFROM:+0000
TZOFFSETTO:+0100
TZNAME:BST
DTSTART:20250330T010000
END:DAYLIGHT
BEGIN:STANDARD
TZOFFSETFROM:+0100
TZOFFSETTO:+0000
TZNAME:GMT
DTSTART:20251026T010000
END:STANDARD
BEGIN:DAYLIGHT
TZOFFSETFROM:+0000
TZOFFSETTO:+0100
TZNAME:BST
DTSTART:20260329T010000
END:DAYLIGHT
BEGIN:STANDARD
TZOFFSETFROM:+0100
TZOFFSETTO:+0000
TZNAME:GMT
DTSTART:20261025T010000
END:STANDARD
BEGIN:DAYLIGHT
TZOFFSETFROM:+0000
TZOFFSETTO:+0100
TZNAME:BST
DTSTART:20270328T010000
END:DAYLIGHT
BEGIN:STANDARD
TZOFFSETFROM:+0100
TZOFFSETTO:+0000
TZNAME:GMT
DTSTART:20271031T010000
END:STANDARD
END:VTIMEZONE
BEGIN:VEVENT
DTSTART;TZID=Europe/London:20260530T120000
DTEND;TZID=Europe/London:20260530T150000
DTSTAMP:20260425T180738
CREATED:20260423T084440Z
LAST-MODIFIED:20260423T084440Z
UID:10001280-1780142400-1780153200@www.thames21.org.uk
SUMMARY:London Rivers Week 2026: Make Like Morris - A Wandle Blooms Linoprint Workshop
DESCRIPTION:Channel William Morris by the River Wandle! Carve & print your own floral tile with South East Rivers Trust at this free outdoor workshop for London Rivers Week. \n\n\n\n\nJoin us:\nThe River Wandle has a rich history as the beating heart of local craft and industry – most famously as the home of William Morris’s textile factory. As part of London Rivers Week 2026\, we are hosting a free\, linoprint workshop to celebrate the river and its creative legacy. \nThis event is aimed at people aged 16 and above. Younger people are welcome but they must be accompanied by an adult at all times and this activity may not be fully age appropriate. \nWhat you’ll do: \n\nCarve your own William Morris inspired floral linoprint tile – we’ll provide templates for you to use and adapt.\nPrint your design and take your tile home with you (to keep or gift to a loved one)\nSpend the afternoon making by the river – no previous experience required.\n\n\n\n\n\nWhat you need to know \n🕒 When: Saturday\, May 30th. 12pm – 3pm \n📍Where to meet: Poulter Park\, SM5 1DT – Look out for our South East Rivers Trust flags \n\nGoogle Maps HERE\n\n👉 Booking is essential so we can plan sessions\, please register here.\n⏰ Booking closes at 11:30pm\, May 28th. \nWhat do you need to bring? \n\nWater bottle (filled up!)\n\n\nWarm\, weather appropriate clothing\n\n\nWear comfortable shoes and clothes you don’t mind getting a bit dirty/inky\n\nAccessibility: Activities will take us off-paths and working on the ground. Some areas may be muddy. We will be using sharp tools to carve the linoprints. If you have any questions about access or physical requirements\, please get in touch before the event. \nGood to know \n\nWe’ll contact you if severe weather means we need to reschedule\n\n\nPlease check your junk folder for confirmation emails\n\nQuestions? \nPlease email us at volunteering@southeastriverstrust.org
URL:https://www.thames21.org.uk/event/london-rivers-week-2026-make-like-morris-a-wandle-blooms-linoprint-workshop/
LOCATION:Poulter Park\, 131 Peterborough Road\, London\, SM5 1DT
CATEGORIES:London Rivers Week 2026
ATTACH;FMTTYPE=image/png:https://www.thames21.org.uk/wp-content/uploads/2026/04/Images-for-website-LRW-2026-23.png
GEO:51.4664615;-0.1928174
X-APPLE-STRUCTURED-LOCATION;VALUE=URI;X-ADDRESS=Poulter Park 131 Peterborough Road London SM5 1DT;X-APPLE-RADIUS=500;X-TITLE=131 Peterborough Road:geo:-0.1928174,51.4664615
END:VEVENT
END:VCALENDAR